BEGIN:VCALENDAR
VERSION:2.0
PRODID:-//ChamberMaster//Event Calendar 2.0//EN
METHOD:PUBLISH
X-PUBLISHED-TTL:P3D
REFRESH-INTERVAL:P3D
CALSCALE:GREGORIAN
BEGIN:VEVENT
DTSTART:20250811T170000Z
DTEND:20250811T213000Z
X-MICROSOFT-CDO-ALLDAYEVENT:FALSE
SUMMARY:2025 Vikings VIP Training Camp Experience
DESCRIPTION:Are you a Vikings fan? Join us as we get a glimpse behind the scenes of the Vikings players practicing. \n\n\n\nRegister to attend the Vikings VIP Training Camp Experience at TCO Performance Center in Eagan on Monday\, August 11\, from approximately 12:00 PM to 5:00 PM. Timing subject to change. \n\n\n\nFood\, beverages\, and parking is included. \n\n\n\nPlus\, you will have the opportunity to mix and mingle with members from other local/regional Chambers: Apple Valley Chamber\, Burnsville Chamber\, Dakota County Regional Chamber\, Eden Prairie Chamber\, Lakeville Chamber\, Latino Chamber\, Minneapolis Chamber\, Minnesota Black Chamber of Commerce\, River Heights Chamber\, Quorom\, and St. Paul Area Chamber.\n\n\n\nWe're still looking for a few select sponsors to be part of this unforgettable event - great exposure\, great environment\, and great crowd! Reach out to Jane Bachul for sponsorship options! \n \n\n Practice Schedule Reminders \n\n\n	*Gates Open: 12:00 PM *Attendees may enter the outdoor area (set up with nonprofit vendors) at this time but will not have access to the Omni Hospitality Tent until 1:00 PM\n	 Access to Omni Hospitality Tent: 1:00 PM\n\n\nThis is the recommended arrival time if you prefer to avoid waiting outside!\n\n\n	\n	Practice Begins: 2:30 PM\n	\n	\n	Practice Concludes & Tent Closes: 4:30 PM\n	\n	\n	Gates Close: 5:00 PM
X-ALT-DESC;FMTTYPE=text/html:<span style="font-size:16px\;"><span style="font-family:arial\;"><span style="letter-spacing:.4pt\;">Are you a Vikings fan? Join us as we get a glimpse behind the scenes of the Vikings players practicing.&nbsp\;</span><br />\n<br />\n<span style="letter-spacing:.4pt\;">Register to attend the <strong>Vikings VIP Training Camp Experience</strong> at TCO Performance Center in Eagan on Monday\, August 11\, from approximately 12:00 PM&nbsp\;to 5:00 PM. Timing subject to change.&nbsp\;<br />\n<br />\nFood\, beverages\, and parking is included.&nbsp\;<br />\n<br style="box-sizing:border-box\;" />\nPlus\, you will have the opportunity to mix and mingle with members from other local/regional Chambers: Apple Valley Chamber\, Burnsville Chamber\,&nbsp\;Dakota County Regional Chamber\, Eden Prairie Chamber\, Lakeville Chamber\, Latino Chamber\, Minneapolis Chamber\, Minnesota Black Chamber of Commerce\, River Heights Chamber\, Quorom\, and St. Paul Area Chamber.</span></span><br />\n<br />\nWe&#39\;re still looking for a few select sponsors to be part of this unforgettable event - great exposure\, great environment\, and great crowd! Reach out to Jane Bachul for sponsorship options!&nbsp\;</span>\n<div data-olk-copy-source="MessageBody" style="border: 0px\; font-variant-numeric: inherit\; font-variant-east-asian: inherit\; font-variant-alternates: inherit\; font-variant-position: inherit\; font-variant-emoji: inherit\; font-stretch: inherit\; font-size: 12pt\; line-height: inherit\; font-family: Aptos\, Aptos_EmbeddedFont\, Aptos_MSFontService\, Calibri\, Helvetica\, sans-serif\; font-optical-sizing: inherit\; font-size-adjust: inherit\; font-kerning: inherit\; font-feature-settings: inherit\; font-variation-settings: inherit\; margin: 0px\; padding: 0px\; vertical-align: baseline\; background-color: white\; direction: ltr\;">&nbsp\;</div>\n\n<div style="align-self: start\; border: 0px\; font: inherit\; margin: 0px\; padding: 0px\; vertical-align: baseline\; color: inherit\;"><span style="font-family:arial\;"><span style="font-size:16px\;"><span style="font-family:arial\;"><span style="font-size:16px\;">&#8203\;</span></span></span></span><b data-olk-copy-source="MailCompose" style="font-size: 12pt\; font-family: arial\; font-style: inherit\; font-variant-ligatures: inherit\; font-variant-caps: inherit\;">Practice Schedule Reminders</b><b data-olk-copy-source="MailCompose" style="font-size: 12pt\; font-family: arial\; font-style: inherit\; font-variant-ligatures: inherit\; font-variant-caps: inherit\;"><span style="font-family:arial\;"><span style="font-size:16px\;">&#8203\;</span></span></b></div>\n\n<ul background-color:="" direction:="" flex-direction:="" font-size:="" helvetica="" segoe="" style="color: rgb(36\, 36\, 36)\; font-family: " ui="" web="" west="">\n	<li role="presentation" style="font-family: Aptos\, Aptos_EmbeddedFont\, Aptos_MSFontService\, Calibri\, Helvetica\, sans-serif\; font-size: 12pt\; color: rgb(0\, 0\, 0)\; margin-top: 1em\; margin-bottom: 1em\;"><span style="font-family:arial\;"><span style="font-size:16px\;">*Gates Open: 12:00 PM *Attendees may enter the outdoor area (set up with nonprofit vendors) at this time but will not have access to the Omni Hospitality Tent until 1:00 PM</span></span></li>\n	<li role="presentation" style="font-family: Aptos\, Aptos_EmbeddedFont\, Aptos_MSFontService\, Calibri\, Helvetica\, sans-serif\; font-size: 12pt\; color: rgb(0\, 0\, 0)\; margin-top: 1em\; margin-bottom: 1em\;"><span style="font-family:arial\;"><span style="font-size:16px\;">&#8203\;Access to Omni Hospitality Tent:&nbsp\;1:00 PM</span></span></li>\n</ul>\n\n<div role="presentation" style="font-family: Aptos\, Aptos_EmbeddedFont\, Aptos_MSFontService\, Calibri\, Helvetica\, sans-serif\; font-size: 12pt\; color: rgb(0\, 0\, 0)\;margin-top: 1em\; margin-bottom: 1em\;"><span style="font-family:arial\;"><span style="font-size:16px\;"><i>This is the recommended arrival time if you&nbsp\;prefer to avoid waiting outside!</i></span></span></div>\n\n<ul background-color:="" direction:="" flex-direction:="" font-size:="" helvetica="" segoe="" style="color: rgb(36\, 36\, 36)\; font-family: " ui="" web="" west="">\n	<li style="font-family: Aptos\, Aptos_EmbeddedFont\, Aptos_MSFontService\, Calibri\, Helvetica\, sans-serif\; font-size: 12pt\; color: rgb(0\, 0\, 0)\;">\n	<div role="presentation" style="margin-top: 1em\; margin-bottom: 1em\;"><span style="font-family:arial\;"><span style="font-size:16px\;">Practice Begins:&nbsp\;2:30 PM</span></span></div>\n	</li>\n	<li style="font-family: Aptos\, Aptos_EmbeddedFont\, Aptos_MSFontService\, Calibri\, Helvetica\, sans-serif\; font-size: 12pt\; color: rgb(0\, 0\, 0)\;">\n	<div role="presentation" style="margin-top: 1em\; margin-bottom: 1em\;"><span style="font-family:arial\;"><span style="font-size:16px\;">Practice Concludes &amp\; Tent Closes:&nbsp\;4:30 PM</span></span></div>\n	</li>\n	<li style="font-family: Aptos\, Aptos_EmbeddedFont\, Aptos_MSFontService\, Calibri\, Helvetica\, sans-serif\; font-size: 12pt\; color: rgb(0\, 0\, 0)\;">\n	<div role="presentation" style="margin-top: 1em\; margin-bottom: 1em\;"><span style="font-family:arial\;"><span style="font-size:16px\;">Gates Close:&nbsp\;5:00 PM</span></span></div>\n	</li>\n</ul>\n
LOCATION:Twin Cities Orthopedics Performance Center 2600 Viking Circle Eagan\, MN 55121
UID:e.471.783998
SEQUENCE:3
DTSTAMP:20260422T120051Z
URL:https://business.dcrchamber.com/events/details/2025-vikings-vip-training-camp-experience-783998
END:VEVENT

END:VCALENDAR
