BEGIN:VCALENDAR
VERSION:2.0
PRODID:-//ChamberMaster//Event Calendar 2.0//EN
METHOD:PUBLISH
X-PUBLISHED-TTL:P3D
REFRESH-INTERVAL:P3D
CALSCALE:GREGORIAN
BEGIN:VEVENT
DTSTART:20231103T220000Z
DTEND:20231104T030000Z
X-MICROSOFT-CDO-ALLDAYEVENT:FALSE
SUMMARY:2023 Fraser Gala\, presented by Meristem | Cresset
DESCRIPTION:Join us for the Fraser Gala\, presented by Meristem | Cresset\, at a new location\, the Renaissance Minneapolis Hotel\, The Depot\, on Fri.\, Nov. 3\, 2023. This year\, get in the game with our Candy Land theme.\n\nMeet us on a magical path to King Kandy's Castle. Chill out in the Peppermint Forest\, or maybe you'll bump into Queen Frostine in the Frosted Palace. You won't want to miss a night that is sure to be sweet with specialty cocktails\, a decadent dinner\, enchanting entertainment\, and most importantly\, an inspiring testimonial from a Fraser family.  \n\nLike Candy Land\, everyone's path through life is different\, filled with peaks and twists\, but some turns lead to sweet adventures. Thanks to our generous donors\, when there are bumps along the road\, individuals and families know they aren't alone.\n\nSponsorship opportunities are available. In addition to providing vital support to individuals and families in our community\, Fraser event sponsors receive unique marketing benefits\, such as signage\, social media advertising\, and brand positioning at our events. Contact Sr. Special Events and Volunteer Program Manager Rose Rosario for information on how you can expand your brand.
X-ALT-DESC;FMTTYPE=text/html:<h3><strong><span style="color:black"><span style="font-family:microsoft jhenghei ui\,sans-serif"><span style="font-size:11.0pt">Join us for the&nbsp\;</span></span></span></strong><strong><span style="color:#333333"><span style="font-family:microsoft jhenghei ui\,sans-serif"><span style="font-size:11.0pt">Fraser Gala\, presented by Meristem | Cresset\,</span></span></span></strong>&nbsp\;<strong><span style="color:black"><span style="font-family:microsoft jhenghei ui\,sans-serif"><span style="font-size:11.0pt">at a new location\, the&nbsp\;</span></span></span></strong><strong><span style="color:#333333"><span style="font-family:microsoft jhenghei ui\,sans-serif"><span style="font-size:11.0pt">Renaissance Minneapolis Hotel\, The Depot\, on Fri.\, Nov. 3\, 2023.&nbsp\;This year\, get in the game with our Candy Land theme.</span></span></span></strong></h3>\n\n<h3><strong><span style="color:#333333"><span style="font-family:microsoft jhenghei ui\,sans-serif"><span style="font-size:11.0pt">Meet us&nbsp\;on a magical path&nbsp\;</span></span></span></strong><strong><span style="color:black"><span style="font-family:microsoft jhenghei ui\,sans-serif"><span style="font-size:11.0pt">to King Kandy&rsquo\;s Castle</span></span></span></strong><strong><span style="color:#333333"><span style="font-family:microsoft jhenghei ui\,sans-serif"><span style="font-size:11.0pt">. Chill out in the Peppermint Forest\, or maybe you&rsquo\;ll bump into Queen Frostine in the Frosted Palace. You won&rsquo\;t want to miss a night that is sure to be sweet with specialty cocktails\, a decadent dinner\, enchanting entertainment\, and most importantly\, an inspiring testimonial from a Fraser family.&nbsp\;&nbsp\;</span></span></span></strong></h3>\n\n<h3><strong><span style="color:#333333"><span style="font-family:microsoft jhenghei ui\,sans-serif"><span style="font-size:11.0pt">Like Candy Land\, everyone&rsquo\;s path through life is different\, filled with peaks and twists\, but some turns lead to sweet adventures. Thanks to our generous donors\, when there are bumps along the road\, individuals and families know they aren&rsquo\;t alone.</span></span></span></strong></h3>\n\n<h3><strong><span style="color:#333333"><span style="font-family:microsoft jhenghei ui\,sans-serif"><span style="font-size:11.0pt">Sponsorship opportunities are available. In addition to providing vital support to individuals and families in our community\, Fraser event sponsors receive unique marketing benefits\, such as signage\, social media advertising\, and brand positioning at our events. Contact Sr. Special Events and Volunteer Program Manager Rose Rosario for information on how you can expand your brand.</span></span></span></strong></h3>\n
LOCATION:Renaissance Minneapolis Hotel\, The Depot 225 3rd Ave S Minneapolis\, MN 55401
UID:e.471.783435
SEQUENCE:3
DTSTAMP:20260422T020610Z
URL:https://business.dcrchamber.com/events/details/2023-fraser-gala-presented-by-meristem-cresset-783435
END:VEVENT

END:VCALENDAR
